BEGIN:VCALENDAR
VERSION:2.0
PRODID:-//Deja Vu Med Spa - ECPv6.15.15//NONSGML v1.0//EN
CALSCALE:GREGORIAN
METHOD:PUBLISH
X-WR-CALNAME:Deja Vu Med Spa
X-ORIGINAL-URL:https://dejavumedspa.com
X-WR-CALDESC:Events for Deja Vu Med Spa
REFRESH-INTERVAL;VALUE=DURATION:PT1H
X-Robots-Tag:noindex
X-PUBLISHED-TTL:PT1H
BEGIN:VTIMEZONE
TZID:UTC
BEGIN:STANDARD
TZOFFSETFROM:+0000
TZOFFSETTO:+0000
TZNAME:UTC
DTSTART:20250101T000000
END:STANDARD
END:VTIMEZONE
BEGIN:VEVENT
DTSTART;TZID=UTC:20260320T120000
DTEND;TZID=UTC:20260320T130000
DTSTAMP:20260425T145314
CREATED:20260311T152610Z
LAST-MODIFIED:20260311T152610Z
UID:6975-1774008000-1774011600@dejavumedspa.com
SUMMARY:Lips and Lines Event
DESCRIPTION:Get spring-ready with smoother lines and beautifully refreshed lips. \nJoin us for an exclusive Lips & Lines Event featuring Botox and Juvederm lip filler—quick\, effective treatments that can help you look years younger in as little as 15 minutes. Results are beautifully natural and can last from three months up to a year\, making this the perfect way to get spring-ready. \nEnjoy a live treatment demo\, event-only pricing\, lunch\, and a special giveaway. RSVP early for a chance to be selected as our live event model. \nDiscover how Botox can soften expression lines and how dermal filler can enhance lips and restore youthful balance. See real results during our live demo\, ask questions\, and learn how these treatments can subtly refresh your look—without looking overdone. \nSpace is limited. RSVP today to secure your spot!
URL:https://dejavumedspa.com/event/lips-and-lines-event-2/
LOCATION:Deja Vu Medspa\, 14411 W McDowell Rd Ste C102\, Goodyear\, AZ\, 85395\, United States
ATTACH;FMTTYPE=image/png:https://dejavumedspa.com/wp-content/uploads/2026/03/Copy-of-lips-FBC.png
END:VEVENT
END:VCALENDAR